BEGIN:VCALENDAR
VERSION:2.0
PRODID:icalendar-ruby
CALSCALE:GREGORIAN
METHOD:PUBLISH
BEGIN:VEVENT
DTSTAMP:20260420T023527Z
UID:8-611561@lighthousemissionary.tithelysetup5.com
DTSTART:20261028T230000Z
DTEND:20261029T000000Z
CLASS:PUBLIC
CREATED:20260419T191512
DESCRIPTION:Wednesday Night Bible Study
LAST-MODIFIED:20260419T191512
LOCATION:Lighthouse Baptist Church
SUMMARY:Wednesday Night Bible Study
URL;VALUE=URI:https://lighthousemissionary.tithelysetup5.com/events/wednesd
 ay-night-bible-study/2026-10-28
END:VEVENT
END:VCALENDAR
