BEGIN:VCALENDAR
VERSION:2.0
PRODID:icalendar-ruby
CALSCALE:GREGORIAN
METHOD:PUBLISH
BEGIN:VEVENT
DTSTAMP:20260419T193336Z
UID:8-610422@lighthousemissionary.tithelysetup5.com
DTSTART:20260923T230000Z
DTEND:20260924T000000Z
CLASS:PUBLIC
CREATED:20260419T115035
DESCRIPTION:Wednesday Night Bible Study
LAST-MODIFIED:20260419T115035
LOCATION:Lighthouse Baptist Church
SUMMARY:Wednesday Night Bible Study
URL;VALUE=URI:https://lighthousemissionary.tithelysetup5.com/events/wednesd
 ay-night-bible-study/2026-09-23
END:VEVENT
END:VCALENDAR
