BEGIN:VCALENDAR
VERSION:2.0
PRODID:icalendar-ruby
CALSCALE:GREGORIAN
METHOD:PUBLISH
BEGIN:VEVENT
DTSTAMP:20260420T052852Z
UID:6-611939@lighthousemissionary.tithelysetup5.com
DTSTART:20261101T170000Z
DTEND:20261101T180000Z
CLASS:PUBLIC
CREATED:20260419T225235
DESCRIPTION:Sunday Morning Service
LAST-MODIFIED:20260419T225235
LOCATION:Lighthouse Baptist Church
SUMMARY:Sunday Morning Service
URL;VALUE=URI:https://lighthousemissionary.tithelysetup5.com/events/sunday-
 morning-service/2026-11-01
END:VEVENT
END:VCALENDAR
