BEGIN:VCALENDAR
VERSION:2.0
PRODID:icalendar-ruby
CALSCALE:GREGORIAN
METHOD:PUBLISH
BEGIN:VEVENT
DTSTAMP:20260420T035644Z
UID:6-611938@lighthousemissionary.tithelysetup5.com
DTSTART:20261025T160000Z
DTEND:20261025T170000Z
CLASS:PUBLIC
CREATED:20260419T225235
DESCRIPTION:Sunday Morning Service
LAST-MODIFIED:20260419T225235
LOCATION:Lighthouse Baptist Church
SUMMARY:Sunday Morning Service
URL;VALUE=URI:https://lighthousemissionary.tithelysetup5.com/events/sunday-
 morning-service/2026-10-25
END:VEVENT
END:VCALENDAR
