BEGIN:VCALENDAR
VERSION:2.0
PRODID:icalendar-ruby
CALSCALE:GREGORIAN
METHOD:PUBLISH
BEGIN:VEVENT
DTSTAMP:20260420T023415Z
UID:6-611370@lighthousemissionary.tithelysetup5.com
DTSTART:20261018T160000Z
DTEND:20261018T170000Z
CLASS:PUBLIC
CREATED:20260419T191512
DESCRIPTION:Sunday Morning Service
LAST-MODIFIED:20260419T191512
LOCATION:Lighthouse Baptist Church
SUMMARY:Sunday Morning Service
URL;VALUE=URI:https://lighthousemissionary.tithelysetup5.com/events/sunday-
 morning-service/2026-10-18
END:VEVENT
END:VCALENDAR
