BEGIN:VCALENDAR
VERSION:2.0
PRODID:icalendar-ruby
CALSCALE:GREGORIAN
METHOD:PUBLISH
BEGIN:VEVENT
DTSTAMP:20260419T210230Z
UID:6-610799@lighthousemissionary.tithelysetup5.com
DTSTART:20260920T160000Z
DTEND:20260920T170000Z
CLASS:PUBLIC
CREATED:20260419T153257
DESCRIPTION:Sunday Morning Service
LAST-MODIFIED:20260419T153257
LOCATION:Lighthouse Baptist Church
SUMMARY:Sunday Morning Service
URL;VALUE=URI:https://lighthousemissionary.tithelysetup5.com/events/sunday-
 morning-service/2026-09-20
END:VEVENT
END:VCALENDAR
