BEGIN:VCALENDAR
VERSION:2.0
PRODID:icalendar-ruby
CALSCALE:GREGORIAN
METHOD:PUBLISH
BEGIN:VEVENT
DTSTAMP:20260419T153221Z
UID:6-609664@lighthousemissionary.tithelysetup5.com
DTSTART:20260823T160000Z
DTEND:20260823T170000Z
CLASS:PUBLIC
CREATED:20260419T080841
DESCRIPTION:Sunday Morning Service
LAST-MODIFIED:20260419T080841
LOCATION:Lighthouse Baptist Church
SUMMARY:Sunday Morning Service
URL;VALUE=URI:https://lighthousemissionary.tithelysetup5.com/events/sunday-
 morning-service/2026-08-23
END:VEVENT
END:VCALENDAR
