BEGIN:VCALENDAR
VERSION:2.0
PRODID:icalendar-ruby
CALSCALE:GREGORIAN
METHOD:PUBLISH
BEGIN:VEVENT
DTSTAMP:20260423T205654Z
UID:7-624512@lighthousemissionary.tithelysetup5.com
DTSTART:20261101T160000Z
DTEND:20261101T170000Z
CLASS:PUBLIC
CREATED:20260423T131733
DESCRIPTION:Sunday Bible Study
LAST-MODIFIED:20260423T131733
LOCATION:Lighthouse Baptist Church
SUMMARY:Sunday Bible Study
URL;VALUE=URI:https://lighthousemissionary.tithelysetup5.com/events/sunday-
 bible-study/2026-11-01
END:VEVENT
END:VCALENDAR
