BEGIN:VCALENDAR
VERSION:2.0
PRODID:icalendar-ruby
CALSCALE:GREGORIAN
METHOD:PUBLISH
BEGIN:VEVENT
DTSTAMP:20260423T194331Z
UID:7-624511@lighthousemissionary.tithelysetup5.com
DTSTART:20261025T150000Z
DTEND:20261025T160000Z
CLASS:PUBLIC
CREATED:20260423T131733
DESCRIPTION:Sunday Bible Study
LAST-MODIFIED:20260423T131733
LOCATION:Lighthouse Baptist Church
SUMMARY:Sunday Bible Study
URL;VALUE=URI:https://lighthousemissionary.tithelysetup5.com/events/sunday-
 bible-study/2026-10-25
END:VEVENT
END:VCALENDAR
