BEGIN:VCALENDAR
VERSION:2.0
PRODID:icalendar-ruby
CALSCALE:GREGORIAN
METHOD:PUBLISH
BEGIN:VEVENT
DTSTAMP:20260423T164355Z
UID:7-623941@lighthousemissionary.tithelysetup5.com
DTSTART:20261011T150000Z
DTEND:20261011T160000Z
CLASS:PUBLIC
CREATED:20260423T102106
DESCRIPTION:Sunday Bible Study
LAST-MODIFIED:20260423T102106
LOCATION:Lighthouse Baptist Church
SUMMARY:Sunday Bible Study
URL;VALUE=URI:https://lighthousemissionary.tithelysetup5.com/events/sunday-
 bible-study/2026-10-11
END:VEVENT
END:VCALENDAR
