BEGIN:VCALENDAR
VERSION:2.0
PRODID:icalendar-ruby
CALSCALE:GREGORIAN
METHOD:PUBLISH
BEGIN:VEVENT
DTSTAMP:20260423T133316Z
UID:7-623371@lighthousemissionary.tithelysetup5.com
DTSTART:20260927T150000Z
DTEND:20260927T160000Z
CLASS:PUBLIC
CREATED:20260423T072835
DESCRIPTION:Sunday Bible Study
LAST-MODIFIED:20260423T072835
LOCATION:Lighthouse Baptist Church
SUMMARY:Sunday Bible Study
URL;VALUE=URI:https://lighthousemissionary.tithelysetup5.com/events/sunday-
 bible-study/2026-09-27
END:VEVENT
END:VCALENDAR
