BEGIN:VCALENDAR
VERSION:2.0
PRODID:icalendar-ruby
CALSCALE:GREGORIAN
METHOD:PUBLISH
BEGIN:VEVENT
DTSTAMP:20260420T053727Z
UID:11-612411@lighthousemissionary.tithelysetup5.com
DTSTART:20261030T223000Z
DTEND:20261030T233000Z
CLASS:PUBLIC
CREATED:20260419T225236
DESCRIPTION:Friday CR Meal
LAST-MODIFIED:20260419T225236
LOCATION:Lighthouse Baptist Church
SUMMARY:Friday CR Meal
URL;VALUE=URI:https://lighthousemissionary.tithelysetup5.com/events/friday-
 cr-meal/2026-10-30
END:VEVENT
END:VCALENDAR
