BEGIN:VCALENDAR
VERSION:2.0
PRODID:icalendar-ruby
CALSCALE:GREGORIAN
METHOD:PUBLISH
BEGIN:VEVENT
DTSTAMP:20260419T222908Z
UID:11-611272@lighthousemissionary.tithelysetup5.com
DTSTART:20260925T223000Z
DTEND:20260925T233000Z
CLASS:PUBLIC
CREATED:20260419T153258
DESCRIPTION:Friday CR Meal
LAST-MODIFIED:20260419T153258
LOCATION:Lighthouse Baptist Church
SUMMARY:Friday CR Meal
URL;VALUE=URI:https://lighthousemissionary.tithelysetup5.com/events/friday-
 cr-meal/2026-09-25
END:VEVENT
END:VCALENDAR
