BEGIN:VCALENDAR
VERSION:2.0
PRODID:icalendar-ruby
CALSCALE:GREGORIAN
METHOD:PUBLISH
BEGIN:VEVENT
DTSTAMP:20260419T182238Z
UID:11-610702@lighthousemissionary.tithelysetup5.com
DTSTART:20260904T223000Z
DTEND:20260904T233000Z
CLASS:PUBLIC
CREATED:20260419T115035
DESCRIPTION:Friday CR Meal
LAST-MODIFIED:20260419T115035
LOCATION:Lighthouse Baptist Church
SUMMARY:Friday CR Meal
URL;VALUE=URI:https://lighthousemissionary.tithelysetup5.com/events/friday-
 cr-meal/2026-09-04
END:VEVENT
END:VCALENDAR
