BEGIN:VCALENDAR
VERSION:2.0
PRODID:icalendar-ruby
CALSCALE:GREGORIAN
METHOD:PUBLISH
BEGIN:VEVENT
DTSTAMP:20260420T030439Z
UID:9-611654@lighthousemissionary.tithelysetup5.com
DTSTART:20261017T130000Z
DTEND:20261017T140000Z
CLASS:PUBLIC
CREATED:20260419T191512
DESCRIPTION:Church-wide Breakfast Fellowship
LAST-MODIFIED:20260419T191512
LOCATION:Lighthouse Baptist Church
SUMMARY:Church-wide Breakfast Fellowship
URL;VALUE=URI:https://lighthousemissionary.tithelysetup5.com/events/church-
 wide-breakfast-fellowship/2026-10-17
END:VEVENT
END:VCALENDAR
