BEGIN:VCALENDAR
VERSION:2.0
PRODID:icalendar-ruby
CALSCALE:GREGORIAN
METHOD:PUBLISH
BEGIN:VEVENT
DTSTAMP:20260420T001848Z
UID:9-611652@lighthousemissionary.tithelysetup5.com
DTSTART:20261003T130000Z
DTEND:20261003T140000Z
CLASS:PUBLIC
CREATED:20260419T191512
DESCRIPTION:Church-wide Breakfast Fellowship
LAST-MODIFIED:20260419T191512
LOCATION:Lighthouse Baptist Church
SUMMARY:Church-wide Breakfast Fellowship
URL;VALUE=URI:https://lighthousemissionary.tithelysetup5.com/events/church-
 wide-breakfast-fellowship/2026-10-03
END:VEVENT
END:VCALENDAR
