BEGIN:VCALENDAR
VERSION:2.0
PRODID:icalendar-ruby
CALSCALE:GREGORIAN
METHOD:PUBLISH
BEGIN:VEVENT
DTSTAMP:20260419T184413Z
UID:9-610514@lighthousemissionary.tithelysetup5.com
DTSTART:20260905T130000Z
DTEND:20260905T140000Z
CLASS:PUBLIC
CREATED:20260419T115035
DESCRIPTION:Church-wide Breakfast Fellowship
LAST-MODIFIED:20260419T115035
LOCATION:Lighthouse Baptist Church
SUMMARY:Church-wide Breakfast Fellowship
URL;VALUE=URI:https://lighthousemissionary.tithelysetup5.com/events/church-
 wide-breakfast-fellowship/2026-09-05
END:VEVENT
END:VCALENDAR
