BEGIN:VCALENDAR
VERSION:2.0
PRODID:icalendar-ruby
CALSCALE:GREGORIAN
METHOD:PUBLISH
BEGIN:VEVENT
DTSTAMP:20260419T124454Z
UID:9-609379@lighthousemissionary.tithelysetup5.com
DTSTART:20260808T130000Z
DTEND:20260808T140000Z
CLASS:PUBLIC
CREATED:20260419T024504
DESCRIPTION:Church-wide Breakfast Fellowship
LAST-MODIFIED:20260419T024504
LOCATION:Lighthouse Baptist Church
SUMMARY:Church-wide Breakfast Fellowship
URL;VALUE=URI:https://lighthousemissionary.tithelysetup5.com/events/church-
 wide-breakfast-fellowship/2026-08-08
END:VEVENT
END:VCALENDAR
