BEGIN:VCALENDAR
VERSION:2.0
PRODID:icalendar-ruby
CALSCALE:GREGORIAN
METHOD:PUBLISH
BEGIN:VEVENT
DTSTAMP:20260420T044703Z
UID:10-612317@lighthousemissionary.tithelysetup5.com
DTSTART:20261030T230000Z
DTEND:20261031T000000Z
CLASS:PUBLIC
CREATED:20260419T225236
DESCRIPTION:Celebrate Recovery Ministry
LAST-MODIFIED:20260419T225236
LOCATION:Lighthouse Baptist Church
SUMMARY:Celebrate Recovery Ministry
URL;VALUE=URI:https://lighthousemissionary.tithelysetup5.com/events/celebra
 te-recovery-ministry/2026-10-30
END:VEVENT
END:VCALENDAR
