BEGIN:VCALENDAR
VERSION:2.0
PRODID:icalendar-ruby
CALSCALE:GREGORIAN
METHOD:PUBLISH
BEGIN:VEVENT
DTSTAMP:20260420T032653Z
UID:10-611749@lighthousemissionary.tithelysetup5.com
DTSTART:20261023T230000Z
DTEND:20261024T000000Z
CLASS:PUBLIC
CREATED:20260419T191512
DESCRIPTION:Celebrate Recovery Ministry
LAST-MODIFIED:20260419T191512
LOCATION:Lighthouse Baptist Church
SUMMARY:Celebrate Recovery Ministry
URL;VALUE=URI:https://lighthousemissionary.tithelysetup5.com/events/celebra
 te-recovery-ministry/2026-10-23
END:VEVENT
END:VCALENDAR
