BEGIN:VCALENDAR
VERSION:2.0
PRODID:icalendar-ruby
CALSCALE:GREGORIAN
METHOD:PUBLISH
BEGIN:VEVENT
DTSTAMP:20260420T003506Z
UID:10-611747@lighthousemissionary.tithelysetup5.com
DTSTART:20261009T230000Z
DTEND:20261010T000000Z
CLASS:PUBLIC
CREATED:20260419T191512
DESCRIPTION:Celebrate Recovery Ministry
LAST-MODIFIED:20260419T191512
LOCATION:Lighthouse Baptist Church
SUMMARY:Celebrate Recovery Ministry
URL;VALUE=URI:https://lighthousemissionary.tithelysetup5.com/events/celebra
 te-recovery-ministry/2026-10-09
END:VEVENT
END:VCALENDAR
