BEGIN:VCALENDAR
VERSION:2.0
PRODID:icalendar-ruby
CALSCALE:GREGORIAN
METHOD:PUBLISH
BEGIN:VEVENT
DTSTAMP:20260419T231414Z
UID:10-611179@lighthousemissionary.tithelysetup5.com
DTSTART:20261002T230000Z
DTEND:20261003T000000Z
CLASS:PUBLIC
CREATED:20260419T153258
DESCRIPTION:Celebrate Recovery Ministry
LAST-MODIFIED:20260419T153258
LOCATION:Lighthouse Baptist Church
SUMMARY:Celebrate Recovery Ministry
URL;VALUE=URI:https://lighthousemissionary.tithelysetup5.com/events/celebra
 te-recovery-ministry/2026-10-02
END:VEVENT
END:VCALENDAR
