BEGIN:VCALENDAR
VERSION:2.0
PRODID:icalendar-ruby
CALSCALE:GREGORIAN
METHOD:PUBLISH
BEGIN:VEVENT
DTSTAMP:20260419T214627Z
UID:10-611178@lighthousemissionary.tithelysetup5.com
DTSTART:20260925T230000Z
DTEND:20260926T000000Z
CLASS:PUBLIC
CREATED:20260419T153258
DESCRIPTION:Celebrate Recovery Ministry
LAST-MODIFIED:20260419T153258
LOCATION:Lighthouse Baptist Church
SUMMARY:Celebrate Recovery Ministry
URL;VALUE=URI:https://lighthousemissionary.tithelysetup5.com/events/celebra
 te-recovery-ministry/2026-09-25
END:VEVENT
END:VCALENDAR
