BEGIN:VCALENDAR
VERSION:2.0
PRODID:icalendar-ruby
CALSCALE:GREGORIAN
METHOD:PUBLISH
BEGIN:VEVENT
DTSTAMP:20260419T175149Z
UID:10-610608@lighthousemissionary.tithelysetup5.com
DTSTART:20260904T230000Z
DTEND:20260905T000000Z
CLASS:PUBLIC
CREATED:20260419T115035
DESCRIPTION:Celebrate Recovery Ministry
LAST-MODIFIED:20260419T115035
LOCATION:Lighthouse Baptist Church
SUMMARY:Celebrate Recovery Ministry
URL;VALUE=URI:https://lighthousemissionary.tithelysetup5.com/events/celebra
 te-recovery-ministry/2026-09-04
END:VEVENT
END:VCALENDAR
