BEGIN:VCALENDAR
VERSION:2.0
PRODID:icalendar-ruby
CALSCALE:GREGORIAN
METHOD:PUBLISH
BEGIN:VEVENT
DTSTAMP:20260419T135112Z
UID:10-610039@lighthousemissionary.tithelysetup5.com
DTSTART:20260814T230000Z
DTEND:20260815T000000Z
CLASS:PUBLIC
CREATED:20260419T080842
DESCRIPTION:Celebrate Recovery Ministry
LAST-MODIFIED:20260419T080842
LOCATION:Lighthouse Baptist Church
SUMMARY:Celebrate Recovery Ministry
URL;VALUE=URI:https://lighthousemissionary.tithelysetup5.com/events/celebra
 te-recovery-ministry/2026-08-14
END:VEVENT
END:VCALENDAR
