BEGIN:VCALENDAR
VERSION:2.0
PRODID:icalendar-ruby
CALSCALE:GREGORIAN
METHOD:PUBLISH
BEGIN:VEVENT
DTSTAMP:20260419T122347Z
UID:10-609473@lighthousemissionary.tithelysetup5.com
DTSTART:20260807T230000Z
DTEND:20260808T000000Z
CLASS:PUBLIC
CREATED:20260419T024504
DESCRIPTION:Celebrate Recovery Ministry
LAST-MODIFIED:20260419T024504
LOCATION:Lighthouse Baptist Church
SUMMARY:Celebrate Recovery Ministry
URL;VALUE=URI:https://lighthousemissionary.tithelysetup5.com/events/celebra
 te-recovery-ministry/2026-08-07
END:VEVENT
END:VCALENDAR
